BEGIN:VCALENDAR
VERSION:2.0
PRODID:spatie/icalendar-generator
DESCRIPTION:Veranstaltungen von Verkehrte Welt e.V.
X-WR-CALDESC:Veranstaltungen von Verkehrte Welt e.V.
REFRESH-INTERVAL;VALUE=DURATION:PT1440M
X-PUBLISHED-TTL:PT1440M
BEGIN:VTIMEZONE
TZID:Europe/Berlin
BEGIN:DAYLIGHT
DTSTART:20220327T020000Z
TZOFFSETFROM:+0100
TZOFFSETTO:+0200
END:DAYLIGHT
BEGIN:STANDARD
DTSTART:20221030T030000Z
TZOFFSETFROM:+0200
TZOFFSETTO:+0100
END:STANDARD
BEGIN:DAYLIGHT
DTSTART:20230326T020000Z
TZOFFSETFROM:+0100
TZOFFSETTO:+0200
END:DAYLIGHT
END:VTIMEZONE
BEGIN:VTIMEZONE
TZID:UTC
BEGIN:STANDARD
DTSTART:20250727T103438Z
TZOFFSETFROM:+0000
TZOFFSETTO:+0000
END:STANDARD
END:VTIMEZONE
BEGIN:VEVENT
UID:118-107
DTSTAMP:20260423T103438Z
SUMMARY:Weihnachtsfeier
LOCATION:
ORGANIZER;CN=Jan Kellig:MAILTO:jan.kellig@mailbox.tu-dresden.de
DTSTART;TZID=Europe/Berlin;VALUE=DATE:20221214
DTEND;TZID=Europe/Berlin;VALUE=DATE:20221215
X-ALT-DESC;FMTTYPE=TEXT/HTML:Liebe Interessierte\, wir möchten euch herzli
 ch einladen zu unserer Weihnachtsfeier! Sie findet am 14.12.2022 ab 18:00 
 Uhr im  Gutzkowclub statt. Wir freuen uns auf euer Kommen.
CATEGORIES:Fest
URL;VALUE=URI:https://www.verkehrte-welt.org/mc-events/weihnachtsfeier/?mc_
 id=118
END:VEVENT
END:VCALENDAR