BEGIN:VCALENDAR
VERSION:2.0
PRODID:spatie/icalendar-generator
DESCRIPTION:Veranstaltungen von Verkehrte Welt e.V.
X-WR-CALDESC:Veranstaltungen von Verkehrte Welt e.V.
REFRESH-INTERVAL;VALUE=DURATION:PT1440M
X-PUBLISHED-TTL:PT1440M
BEGIN:VTIMEZONE
TZID:Europe/Berlin
BEGIN:DAYLIGHT
DTSTART:20180325T020000Z
TZOFFSETFROM:+0100
TZOFFSETTO:+0200
END:DAYLIGHT
BEGIN:STANDARD
DTSTART:20181028T030000Z
TZOFFSETFROM:+0200
TZOFFSETTO:+0100
END:STANDARD
BEGIN:DAYLIGHT
DTSTART:20190331T020000Z
TZOFFSETFROM:+0100
TZOFFSETTO:+0200
END:DAYLIGHT
END:VTIMEZONE
BEGIN:VTIMEZONE
TZID:UTC
BEGIN:STANDARD
DTSTART:20250725T000953Z
TZOFFSETFROM:+0000
TZOFFSETTO:+0000
END:STANDARD
END:VTIMEZONE
BEGIN:VEVENT
UID:66-80
DTSTAMP:20260421T000953Z
SUMMARY:Weihnachts- und Jubiläumsfeier
LOCATION:Gutzkowclub e.V. Gutzkowstraße 29-33  Dresden
ORGANIZER;CN=Joachim Roth:MAILTO:joachim_roth@mail.com
DTSTART;TZID=Europe/Berlin:20181211T180000
DTEND;TZID=Europe/Berlin:20181211T234500
X-ALT-DESC;FMTTYPE=TEXT/HTML:Unsere jährliche Weihnachtsfeier ist mittlerw
 eile ja hinreichend berühmt und berüchtigt. Dieses Jahr kommt aber noch 
 ein weiterer Grund zum Feiern dazu: Die Verkehrte Welt wird 15 Jahre alt! 
 Wir möchten die Gelegenheit dazu nutzen\, um mit euch zusammen in weihnac
 htlicher Stimmung auf die schönsten Momente der Vereinsgeschichte zurück
 zublicken und dabei ein Stück Geburtstagstorte zu genießen.&amp;hellip\;
CATEGORIES:Andere
URL;VALUE=URI:https://www.verkehrte-welt.org/mc-events/weihnachts-und-jubil
 aeumsfeier/?mc_id=66
END:VEVENT
END:VCALENDAR