BEGIN:VCALENDAR
VERSION:2.0
PRODID:spatie/icalendar-generator
DESCRIPTION:Veranstaltungen von Verkehrte Welt e.V.
X-WR-CALDESC:Veranstaltungen von Verkehrte Welt e.V.
REFRESH-INTERVAL;VALUE=DURATION:PT1440M
X-PUBLISHED-TTL:PT1440M
BEGIN:VTIMEZONE
TZID:Europe/Berlin
BEGIN:STANDARD
DTSTART:20221030T030000Z
TZOFFSETFROM:+0200
TZOFFSETTO:+0100
END:STANDARD
BEGIN:DAYLIGHT
DTSTART:20230326T020000Z
TZOFFSETFROM:+0100
TZOFFSETTO:+0200
END:DAYLIGHT
END:VTIMEZONE
BEGIN:VTIMEZONE
TZID:UTC
BEGIN:STANDARD
DTSTART:20250725T133909Z
TZOFFSETFROM:+0000
TZOFFSETTO:+0000
END:STANDARD
END:VTIMEZONE
BEGIN:VEVENT
UID:125-113
DTSTAMP:20260421T133909Z
SUMMARY:Vereinswochenende und Mitgliederversammlung
LOCATION:
ORGANIZER;CN=Jan Kellig:MAILTO:jan.kellig@mailbox.tu-dresden.de
DTSTART;TZID=Europe/Berlin;VALUE=DATE:20230127
DTEND;TZID=Europe/Berlin;VALUE=DATE:20230130
X-ALT-DESC;FMTTYPE=TEXT/HTML:An diesen Tagen findet unser Vereinswochenende
  statt.
CATEGORIES:Verein
URL;VALUE=URI:https://www.verkehrte-welt.org/mc-events/vereinswochenende-un
 d-mitgliederversammlung/?mc_id=125
END:VEVENT
END:VCALENDAR