BEGIN:VCALENDAR
VERSION:2.0
PRODID:spatie/icalendar-generator
DESCRIPTION:Veranstaltungen von Verkehrte Welt e.V.
X-WR-CALDESC:Veranstaltungen von Verkehrte Welt e.V.
REFRESH-INTERVAL;VALUE=DURATION:PT1440M
X-PUBLISHED-TTL:PT1440M
BEGIN:VTIMEZONE
TZID:Europe/Berlin
BEGIN:STANDARD
DTSTART:20211031T030000Z
TZOFFSETFROM:+0200
TZOFFSETTO:+0100
END:STANDARD
BEGIN:DAYLIGHT
DTSTART:20220327T020000Z
TZOFFSETFROM:+0100
TZOFFSETTO:+0200
END:DAYLIGHT
END:VTIMEZONE
BEGIN:VTIMEZONE
TZID:UTC
BEGIN:STANDARD
DTSTART:20250727T111509Z
TZOFFSETFROM:+0000
TZOFFSETTO:+0000
END:STANDARD
END:VTIMEZONE
BEGIN:VEVENT
UID:103-96
DTSTAMP:20260423T111509Z
SUMMARY:Vereinssitzung Verkehrte Welt e.V.
LOCATION:
ORGANIZER;CN=Malte Worat:MAILTO:malte.worat@mailbox.tu-dresden.de
RRULE:FREQ=MONTHLY;BYDAY=1WE;UNTIL=20220803T000000Z
DTSTART;TZID=Europe/Berlin:20220406T183000
DTEND;TZID=Europe/Berlin:20220406T200000
X-ALT-DESC;FMTTYPE=TEXT/HTML:Jeweils zum ersten Mittwoch des Monats trifft 
 sich die Verkehrte Welt zur regelmäßigen Vereinssitzung. Die Sitzungen w
 erden voraussichtlich in hybrider Form stattfinden. Die Tagesordnung wird 
 über den Verteiler rechtzeitig bekannt gegeben. &amp;nbsp\; Wir freuen uns au
 f Euch!
CATEGORIES:Verein
URL;VALUE=URI:https://www.verkehrte-welt.org/mc-events/vereinssitzung-verke
 hrte-welt-e-v-planung-der-sommerreise-2022/?mc_id=103
END:VEVENT
END:VCALENDAR