BEGIN:VCALENDAR
VERSION:2.0
PRODID:spatie/icalendar-generator
DESCRIPTION:Veranstaltungen von Verkehrte Welt e.V.
X-WR-CALDESC:Veranstaltungen von Verkehrte Welt e.V.
REFRESH-INTERVAL;VALUE=DURATION:PT1440M
X-PUBLISHED-TTL:PT1440M
BEGIN:VTIMEZONE
TZID:Europe/Berlin
BEGIN:STANDARD
DTSTART:20221030T030000Z
TZOFFSETFROM:+0200
TZOFFSETTO:+0100
END:STANDARD
BEGIN:DAYLIGHT
DTSTART:20230326T020000Z
TZOFFSETFROM:+0100
TZOFFSETTO:+0200
END:DAYLIGHT
END:VTIMEZONE
BEGIN:VTIMEZONE
TZID:UTC
BEGIN:STANDARD
DTSTART:20250725T120713Z
TZOFFSETFROM:+0000
TZOFFSETTO:+0000
END:STANDARD
END:VTIMEZONE
BEGIN:VEVENT
UID:124-112
DTSTAMP:20260421T120713Z
SUMMARY:Vereinssitzung Verkehrte Welt e.V.
LOCATION:
ORGANIZER;CN=Jan Kellig:MAILTO:jan.kellig@mailbox.tu-dresden.de
DTSTART;TZID=Europe/Berlin:20230111T183000
DTEND;TZID=Europe/Berlin:20230111T220000
X-ALT-DESC;FMTTYPE=TEXT/HTML:Jeweils zum ersten Mittwoch des Monats trifft 
 sich die Verkehrte Welt zur regelmäßigen Vereinssitzung. Die Sitzung wir
 d voraussichtlich im Raum POT/13 stattfinden. Die Tagesordnung wird über 
 den Verteiler rechtzeitig bekannt gegeben. Wir freuen uns auf Euch!
CATEGORIES:Verein
URL;VALUE=URI:https://www.verkehrte-welt.org/mc-events/vereinssitzung-verke
 hrte-welt-e-v-5/?mc_id=124
END:VEVENT
END:VCALENDAR