BEGIN:VCALENDAR
VERSION:2.0
PRODID:spatie/icalendar-generator
DESCRIPTION:Veranstaltungen von Verkehrte Welt e.V.
X-WR-CALDESC:Veranstaltungen von Verkehrte Welt e.V.
REFRESH-INTERVAL;VALUE=DURATION:PT1440M
X-PUBLISHED-TTL:PT1440M
BEGIN:VTIMEZONE
TZID:Europe/Berlin
BEGIN:DAYLIGHT
DTSTART:20180325T020000Z
TZOFFSETFROM:+0100
TZOFFSETTO:+0200
END:DAYLIGHT
BEGIN:STANDARD
DTSTART:20181028T030000Z
TZOFFSETFROM:+0200
TZOFFSETTO:+0100
END:STANDARD
BEGIN:DAYLIGHT
DTSTART:20190331T020000Z
TZOFFSETFROM:+0100
TZOFFSETTO:+0200
END:DAYLIGHT
END:VTIMEZONE
BEGIN:VTIMEZONE
TZID:UTC
BEGIN:STANDARD
DTSTART:20250724T221901Z
TZOFFSETFROM:+0000
TZOFFSETTO:+0000
END:STANDARD
END:VTIMEZONE
BEGIN:VEVENT
UID:65-79
DTSTAMP:20260420T221901Z
SUMMARY:Vereinssitzung
LOCATION:Vereinsbüro Hettnerstraße 1 Raum 067A (Kellergeschoss\, Zugang 
 über Raum 067) Dresden  01062
ORGANIZER;CN=Joachim Roth:MAILTO:joachim_roth@mail.com
DTSTART;TZID=Europe/Berlin:20181128T183000
DTEND;TZID=Europe/Berlin:20181128T193000
X-ALT-DESC;FMTTYPE=TEXT/HTML:Wieder mal nach einer Woche feiertagsbedingter
  Pause findet nächsten Mittwoch\, den 28.11. die dritte Vereinssitzung de
 s Semesters statt. Auf der Tagesordnung stehen folgende Punkte: TOP 1: Aus
 wertung Herbstexkursion TOP 2: Aktueller Planungsstand Weihnachtsfeier TOP
  3: Organisation Vereinswochenende TOP 4: Aktueller Stand Abrechnung Russl
 and 2018 TOP 5: Adressenverwaltung und Newsletter TOP 6: Sonstiges Treffpu
 nkt ist wie&amp;hellip\;
CATEGORIES:Verein
URL;VALUE=URI:https://www.verkehrte-welt.org/mc-events/vereinssitzung-28/?m
 c_id=65
END:VEVENT
END:VCALENDAR