BEGIN:VCALENDAR
VERSION:2.0
PRODID:spatie/icalendar-generator
DESCRIPTION:Veranstaltungen von Verkehrte Welt e.V.
X-WR-CALDESC:Veranstaltungen von Verkehrte Welt e.V.
REFRESH-INTERVAL;VALUE=DURATION:PT1440M
X-PUBLISHED-TTL:PT1440M
BEGIN:VTIMEZONE
TZID:Europe/Berlin
BEGIN:DAYLIGHT
DTSTART:20180325T020000Z
TZOFFSETFROM:+0100
TZOFFSETTO:+0200
END:DAYLIGHT
BEGIN:STANDARD
DTSTART:20181028T030000Z
TZOFFSETFROM:+0200
TZOFFSETTO:+0100
END:STANDARD
BEGIN:DAYLIGHT
DTSTART:20190331T020000Z
TZOFFSETFROM:+0100
TZOFFSETTO:+0200
END:DAYLIGHT
END:VTIMEZONE
BEGIN:VTIMEZONE
TZID:UTC
BEGIN:STANDARD
DTSTART:20250725T022152Z
TZOFFSETFROM:+0000
TZOFFSETTO:+0000
END:STANDARD
END:VTIMEZONE
BEGIN:VEVENT
UID:64-78
DTSTAMP:20260421T022152Z
SUMMARY:Vereinssitzung
LOCATION:POT13 (Potthoff-Bau) Hettnerstraße 1  Dresden  01062
ORGANIZER;CN=Joachim Roth:MAILTO:joachim_roth@mail.com
DTSTART;TZID=Europe/Berlin:20181107T183000
DTEND;TZID=Europe/Berlin:20181107T193000
X-ALT-DESC;FMTTYPE=TEXT/HTML:Nach einer Woche Pause findet nächsten Mittwo
 ch\, den 7.11. die zweite Vereinssitzung des Semesters statt. Auf der Tage
 sordnung stehen folgende Punkte:TOP 1: Auswertung Kennenlernabend TOP 2: A
 uswertung Bahnhofsführung TOP 3: Aktueller Planungsstand Herbstexkursion 
 TOP 4: Terminfindung Jubiläum\, Bier &amp;amp\; Bilder\, Weihnachtsfeier TOP 
 5: Exkursion SOB TOP 6: Sonstiges Treffpunkt ist wie immer um 18:30 in&amp;hel
 lip\;
CATEGORIES:Verein
URL;VALUE=URI:https://www.verkehrte-welt.org/mc-events/vereinssitzung-27/?m
 c_id=64
END:VEVENT
END:VCALENDAR