BEGIN:VCALENDAR
VERSION:2.0
PRODID:spatie/icalendar-generator
DESCRIPTION:Veranstaltungen von Verkehrte Welt e.V.
X-WR-CALDESC:Veranstaltungen von Verkehrte Welt e.V.
REFRESH-INTERVAL;VALUE=DURATION:PT1440M
X-PUBLISHED-TTL:PT1440M
BEGIN:VTIMEZONE
TZID:Europe/Berlin
BEGIN:STANDARD
DTSTART:20201025T030000Z
TZOFFSETFROM:+0200
TZOFFSETTO:+0100
END:STANDARD
BEGIN:DAYLIGHT
DTSTART:20210328T020000Z
TZOFFSETFROM:+0100
TZOFFSETTO:+0200
END:DAYLIGHT
BEGIN:STANDARD
DTSTART:20211031T030000Z
TZOFFSETFROM:+0200
TZOFFSETTO:+0100
END:STANDARD
END:VTIMEZONE
BEGIN:VTIMEZONE
TZID:UTC
BEGIN:STANDARD
DTSTART:20250725T020305Z
TZOFFSETFROM:+0000
TZOFFSETTO:+0000
END:STANDARD
END:VTIMEZONE
BEGIN:VEVENT
UID:80-90
DTSTAMP:20260421T020305Z
SUMMARY:Online: Vereinssitzung Verkehrte Welt e.V.
LOCATION:Online via BigBlueButton
ORGANIZER;CN=Malte Worat:MAILTO:malte.worat@mailbox.tu-dresden.de
RRULE:FREQ=MONTHLY;BYDAY=1WE;COUNT=6
DTSTART;TZID=Europe/Berlin:20210602T183000
DTEND;TZID=Europe/Berlin:20210602T210000
X-ALT-DESC;FMTTYPE=TEXT/HTML:Unsere Vereinssitzungen finden aufgrund der Co
 vid-Pandemie bis auf Weiteres online statt. Die Einwahllinks für BigBlueB
 utton sowie die Tagesordnung geben wir rechtzeitig über den Aktiven-Verte
 iler bekannt. Wenn ihr neu dazu kommen möchtet und noch nicht im Aktiven-
 Verteiler seid\, schreibt uns eine Mail an info(at)verkehrte-welt.org. &amp;nb
 sp\;
CATEGORIES:Verein
URL;VALUE=URI:https://www.verkehrte-welt.org/mc-events/online-vereinssitzun
 g-verkehrte-welt-e-v/?mc_id=80
END:VEVENT
END:VCALENDAR