BEGIN:VCALENDAR
VERSION:2.0
PRODID:spatie/icalendar-generator
DESCRIPTION:Veranstaltungen von Verkehrte Welt e.V.
X-WR-CALDESC:Veranstaltungen von Verkehrte Welt e.V.
REFRESH-INTERVAL;VALUE=DURATION:PT1440M
X-PUBLISHED-TTL:PT1440M
BEGIN:VTIMEZONE
TZID:Europe/Berlin
BEGIN:DAYLIGHT
DTSTART:20180325T020000Z
TZOFFSETFROM:+0100
TZOFFSETTO:+0200
END:DAYLIGHT
BEGIN:STANDARD
DTSTART:20181028T030000Z
TZOFFSETFROM:+0200
TZOFFSETTO:+0100
END:STANDARD
BEGIN:DAYLIGHT
DTSTART:20190331T020000Z
TZOFFSETFROM:+0100
TZOFFSETTO:+0200
END:DAYLIGHT
END:VTIMEZONE
BEGIN:VTIMEZONE
TZID:UTC
BEGIN:STANDARD
DTSTART:20250725T001055Z
TZOFFSETFROM:+0000
TZOFFSETTO:+0000
END:STANDARD
END:VTIMEZONE
BEGIN:VEVENT
UID:61-75
DTSTAMP:20260421T001055Z
SUMMARY:Herbstexkursion nach Nürnberg
LOCATION:
ORGANIZER;CN=Joachim Roth:MAILTO:joachim_roth@mail.com
DTSTART;TZID=Europe/Berlin;VALUE=DATE:20181110
DTEND;TZID=Europe/Berlin;VALUE=DATE:20181113
X-ALT-DESC;FMTTYPE=TEXT/HTML:Die Verkehrte Welt lädt zu der alljährlichen
  Herbstexkursion ein. Dieses Jahr möchten wir Nürnberg besuchen. Genauer
 e Informationen zum Programm folgen später.
CATEGORIES:Exkursion
URL;VALUE=URI:https://www.verkehrte-welt.org/mc-events/herbstexkursion-nach
 -nuernberg/?mc_id=61
END:VEVENT
END:VCALENDAR