BEGIN:VCALENDAR
VERSION:2.0
PRODID:spatie/icalendar-generator
DESCRIPTION:Veranstaltungen von Verkehrte Welt e.V.
X-WR-CALDESC:Veranstaltungen von Verkehrte Welt e.V.
REFRESH-INTERVAL;VALUE=DURATION:PT1440M
X-PUBLISHED-TTL:PT1440M
BEGIN:VTIMEZONE
TZID:Europe/Berlin
BEGIN:DAYLIGHT
DTSTART:20180325T020000Z
TZOFFSETFROM:+0100
TZOFFSETTO:+0200
END:DAYLIGHT
BEGIN:STANDARD
DTSTART:20181028T030000Z
TZOFFSETFROM:+0200
TZOFFSETTO:+0100
END:STANDARD
BEGIN:DAYLIGHT
DTSTART:20190331T020000Z
TZOFFSETFROM:+0100
TZOFFSETTO:+0200
END:DAYLIGHT
END:VTIMEZONE
BEGIN:VTIMEZONE
TZID:UTC
BEGIN:STANDARD
DTSTART:20250725T001829Z
TZOFFSETFROM:+0000
TZOFFSETTO:+0000
END:STANDARD
END:VTIMEZONE
BEGIN:VEVENT
UID:60-74
DTSTAMP:20260421T001829Z
SUMMARY:Bahnhofsführung
LOCATION:Hauptbahnhof Dresden (Gleis 10\,11) Wiener Platz 4  Dresden Sachse
 n 01069
ORGANIZER;CN=Joachim Roth:MAILTO:joachim_roth@mail.com
DTSTART;TZID=Europe/Berlin:20181107T111500
DTEND;TZID=Europe/Berlin:20181107T124500
X-ALT-DESC;FMTTYPE=TEXT/HTML:Führung hinter die Kulissen des Dresdner Haup
 tbahnhofs
CATEGORIES:Exkursion
URL;VALUE=URI:https://www.verkehrte-welt.org/mc-events/bahnhofsfuehrung-4/?
 mc_id=60
END:VEVENT
END:VCALENDAR